BEGIN:VCALENDAR
VERSION:2.0
PRODID:-//Near West Side Partners - ECPv6.15.20//NONSGML v1.0//EN
CALSCALE:GREGORIAN
METHOD:PUBLISH
X-ORIGINAL-URL:https://nearwestsidemke.org
X-WR-CALDESC:Events for Near West Side Partners
REFRESH-INTERVAL;VALUE=DURATION:PT1H
X-Robots-Tag:noindex
X-PUBLISHED-TTL:PT1H
BEGIN:VTIMEZONE
TZID:America/Chicago
BEGIN:DAYLIGHT
TZOFFSETFROM:-0600
TZOFFSETTO:-0500
TZNAME:CDT
DTSTART:20240310T080000
END:DAYLIGHT
BEGIN:STANDARD
TZOFFSETFROM:-0500
TZOFFSETTO:-0600
TZNAME:CST
DTSTART:20241103T070000
END:STANDARD
BEGIN:DAYLIGHT
TZOFFSETFROM:-0600
TZOFFSETTO:-0500
TZNAME:CDT
DTSTART:20250309T080000
END:DAYLIGHT
BEGIN:STANDARD
TZOFFSETFROM:-0500
TZOFFSETTO:-0600
TZNAME:CST
DTSTART:20251102T070000
END:STANDARD
BEGIN:DAYLIGHT
TZOFFSETFROM:-0600
TZOFFSETTO:-0500
TZNAME:CDT
DTSTART:20260308T080000
END:DAYLIGHT
BEGIN:STANDARD
TZOFFSETFROM:-0500
TZOFFSETTO:-0600
TZNAME:CST
DTSTART:20261101T070000
END:STANDARD
END:VTIMEZONE
BEGIN:VEVENT
DTSTART;TZID=America/Chicago:20251213T090000
DTEND;TZID=America/Chicago:20251213T130000
DTSTAMP:20260421T191241
CREATED:20251208T193021Z
LAST-MODIFIED:20251210T175652Z
UID:33410-1765616400-1765630800@nearwestsidemke.org
SUMMARY:Healthy Futures:  Empowering Kids & Families to Fight Childhood Obesity
DESCRIPTION:This is a free family Health Summit with: \n\nCooking demonstrations\nFamily fitness\nNutrition Experts\nCommunity Resources\n\nThriveOn King (3rd Floor) \n2153 N. Dr. Martin Luther King Drive\, Milwaukee\, WI 53212 \nRegister for free: bit.ly/HealthyFuturesFamilies \nFor more information call: Health Connections\, Inc. 414-999-1099
URL:https://nearwestsidemke.org/event/healthy-futures-empowering-kids-families-to-fight-childhood-obesity/
LOCATION:ThriveOn King\, 2153 N. Dr. Martin Luther King Drive\, Milwaukee\, WI\, 53208
END:VEVENT
END:VCALENDAR