BEGIN:VCALENDAR
VERSION:2.0
PRODID:-//Near West Side Partners - ECPv6.15.20//NONSGML v1.0//EN
CALSCALE:GREGORIAN
METHOD:PUBLISH
X-ORIGINAL-URL:https://nearwestsidemke.org
X-WR-CALDESC:Events for Near West Side Partners
REFRESH-INTERVAL;VALUE=DURATION:PT1H
X-Robots-Tag:noindex
X-PUBLISHED-TTL:PT1H
BEGIN:VTIMEZONE
TZID:America/Chicago
BEGIN:DAYLIGHT
TZOFFSETFROM:-0600
TZOFFSETTO:-0500
TZNAME:CDT
DTSTART:20220313T080000
END:DAYLIGHT
BEGIN:STANDARD
TZOFFSETFROM:-0500
TZOFFSETTO:-0600
TZNAME:CST
DTSTART:20221106T070000
END:STANDARD
BEGIN:DAYLIGHT
TZOFFSETFROM:-0600
TZOFFSETTO:-0500
TZNAME:CDT
DTSTART:20230312T080000
END:DAYLIGHT
BEGIN:STANDARD
TZOFFSETFROM:-0500
TZOFFSETTO:-0600
TZNAME:CST
DTSTART:20231105T070000
END:STANDARD
BEGIN:DAYLIGHT
TZOFFSETFROM:-0600
TZOFFSETTO:-0500
TZNAME:CDT
DTSTART:20240310T080000
END:DAYLIGHT
BEGIN:STANDARD
TZOFFSETFROM:-0500
TZOFFSETTO:-0600
TZNAME:CST
DTSTART:20241103T070000
END:STANDARD
BEGIN:DAYLIGHT
TZOFFSETFROM:-0600
TZOFFSETTO:-0500
TZNAME:CDT
DTSTART:20250309T080000
END:DAYLIGHT
BEGIN:STANDARD
TZOFFSETFROM:-0500
TZOFFSETTO:-0600
TZNAME:CST
DTSTART:20251102T070000
END:STANDARD
END:VTIMEZONE
BEGIN:VEVENT
DTSTART;TZID=America/Chicago:20241121T173000
DTEND;TZID=America/Chicago:20241121T183000
DTSTAMP:20260424T105438
CREATED:20240312T170909Z
LAST-MODIFIED:20240312T170909Z
UID:9238-1732210200-1732213800@nearwestsidemke.org
SUMMARY:District Three 2024 Crime and Safety Meeting
DESCRIPTION:Join captain Bratchett in learning about the crime statistics for district 3. Meet some of your local Neighbors\,business owners\, and organizations to learn about new safety topics each month. The Community Liason Officer and Community Partnerships officers will be available for any other questions!
URL:https://nearwestsidemke.org/event/district-three-2024-crime-and-safety-meeting-9/
LOCATION:Milwaukeek Police Departmernt District 3\, 2333 N 49th St\, Milwaukee\, WI\, 53210\, United States
END:VEVENT
BEGIN:VEVENT
DTSTART;TZID=America/Chicago:20241031T173000
DTEND;TZID=America/Chicago:20241031T183000
DTSTAMP:20260424T105438
CREATED:20240312T170807Z
LAST-MODIFIED:20240312T170807Z
UID:9235-1730395800-1730399400@nearwestsidemke.org
SUMMARY:District Three 2024 Crime and Safety Meeting
DESCRIPTION:Join captain Bratchett in learning about the crime statistics for district 3. Meet some of your local Neighbors\,business owners\, and organizations to learn about new safety topics each month. The Community Liason Officer and Community Partnerships officers will be available for any other questions!
URL:https://nearwestsidemke.org/event/district-three-2024-crime-and-safety-meeting-8/
LOCATION:Milwaukeek Police Departmernt District 3\, 2333 N 49th St\, Milwaukee\, WI\, 53210\, United States
END:VEVENT
BEGIN:VEVENT
DTSTART;TZID=America/Chicago:20240926T173000
DTEND;TZID=America/Chicago:20240926T183000
DTSTAMP:20260424T105438
CREATED:20240312T170735Z
LAST-MODIFIED:20240312T170735Z
UID:9227-1727371800-1727375400@nearwestsidemke.org
SUMMARY:District Three 2024 Crime and Safety Meeting
DESCRIPTION:Join captain Bratchett in learning about the crime statistics for district 3. Meet some of your local Neighbors\,business owners\, and organizations to learn about new safety topics each month. The Community Liason Officer and Community Partnerships officers will be available for any other questions!
URL:https://nearwestsidemke.org/event/district-three-2024-crime-and-safety-meeting-7/
LOCATION:Milwaukeek Police Departmernt District 3\, 2333 N 49th St\, Milwaukee\, WI\, 53210\, United States
END:VEVENT
BEGIN:VEVENT
DTSTART;TZID=America/Chicago:20240829T173000
DTEND;TZID=America/Chicago:20240829T183000
DTSTAMP:20260424T105438
CREATED:20240312T170709Z
LAST-MODIFIED:20240312T170709Z
UID:9224-1724952600-1724956200@nearwestsidemke.org
SUMMARY:District Three 2024 Crime and Safety Meeting
DESCRIPTION:Join captain Bratchett in learning about the crime statistics for district 3. Meet some of your local Neighbors\,business owners\, and organizations to learn about new safety topics each month. The Community Liason Officer and Community Partnerships officers will be available for any other questions!
URL:https://nearwestsidemke.org/event/district-three-2024-crime-and-safety-meeting-6/
LOCATION:Milwaukeek Police Departmernt District 3\, 2333 N 49th St\, Milwaukee\, WI\, 53210\, United States
END:VEVENT
BEGIN:VEVENT
DTSTART;TZID=America/Chicago:20240725T173000
DTEND;TZID=America/Chicago:20240725T183000
DTSTAMP:20260424T105438
CREATED:20240312T170644Z
LAST-MODIFIED:20240312T170644Z
UID:9221-1721928600-1721932200@nearwestsidemke.org
SUMMARY:District Three 2024 Crime and Safety Meeting
DESCRIPTION:Join captain Bratchett in learning about the crime statistics for district 3. Meet some of your local Neighbors\,business owners\, and organizations to learn about new safety topics each month. The Community Liason Officer and Community Partnerships officers will be available for any other questions!
URL:https://nearwestsidemke.org/event/district-three-2024-crime-and-safety-meeting-5/
LOCATION:Milwaukeek Police Departmernt District 3\, 2333 N 49th St\, Milwaukee\, WI\, 53210\, United States
END:VEVENT
BEGIN:VEVENT
DTSTART;TZID=America/Chicago:20240627T173000
DTEND;TZID=America/Chicago:20240627T183000
DTSTAMP:20260424T105438
CREATED:20240312T170554Z
LAST-MODIFIED:20240312T170554Z
UID:9213-1719509400-1719513000@nearwestsidemke.org
SUMMARY:District Three 2024 Crime and Safety Meeting
DESCRIPTION:Join captain Bratchett in learning about the crime statistics for district 3. Meet some of your local Neighbors\,business owners\, and organizations to learn about new safety topics each month. The Community Liason Officer and Community Partnerships officers will be available for any other questions!
URL:https://nearwestsidemke.org/event/district-three-2024-crime-and-safety-meeting-4/
LOCATION:Milwaukeek Police Departmernt District 3\, 2333 N 49th St\, Milwaukee\, WI\, 53210\, United States
END:VEVENT
BEGIN:VEVENT
DTSTART;TZID=America/Chicago:20240530T173000
DTEND;TZID=America/Chicago:20240530T183000
DTSTAMP:20260424T105438
CREATED:20240312T170527Z
LAST-MODIFIED:20240312T170527Z
UID:9210-1717090200-1717093800@nearwestsidemke.org
SUMMARY:District Three 2024 Crime and Safety Meeting
DESCRIPTION:Join captain Bratchett in learning about the crime statistics for district 3. Meet some of your local Neighbors\,business owners\, and organizations to learn about new safety topics each month. The Community Liason Officer and Community Partnerships officers will be available for any other questions!
URL:https://nearwestsidemke.org/event/district-three-2024-crime-and-safety-meeting-3/
LOCATION:Milwaukeek Police Departmernt District 3\, 2333 N 49th St\, Milwaukee\, WI\, 53210\, United States
END:VEVENT
BEGIN:VEVENT
DTSTART;TZID=America/Chicago:20240425T173000
DTEND;TZID=America/Chicago:20240425T183000
DTSTAMP:20260424T105438
CREATED:20240312T170501Z
LAST-MODIFIED:20240312T170501Z
UID:9205-1714066200-1714069800@nearwestsidemke.org
SUMMARY:District Three 2024 Crime and Safety Meeting
DESCRIPTION:Join Captain Bratchett in Learning about the crime statistics for District 3. Meet some of your neighbors\,business owners and organizations to learn about new safety topics each month. The Community Liason Officer and Community Partnership officers will be available for any other questions!
URL:https://nearwestsidemke.org/event/district-three-2024-crime-and-safety-meeting-2/
LOCATION:Milwaukeek Police Departmernt District 3\, 2333 N 49th St\, Milwaukee\, WI\, 53210\, United States
END:VEVENT
BEGIN:VEVENT
DTSTART;TZID=America/Chicago:20231130T173000
DTEND;TZID=America/Chicago:20231130T173000
DTSTAMP:20260424T105438
CREATED:20230705T141043Z
LAST-MODIFIED:20230705T141043Z
UID:5164-1701365400-1701365400@nearwestsidemke.org
SUMMARY:District Three Crime and Safety Meeting
DESCRIPTION:Join Captain Bratchett in learning about the crime statistics for District 3. Meet some of your neighbors\, business owners and organizations to learn about new safety topics each month. The Community Liaison Officer and Community Partnership officers will be available for any other questions!
URL:https://nearwestsidemke.org/event/district-three-crime-and-safety-meeting-2/
LOCATION:Milwaukeek Police Departmernt District 3\, 2333 N 49th St\, Milwaukee\, WI\, 53210\, United States
END:VEVENT
BEGIN:VEVENT
DTSTART;TZID=America/Chicago:20230928T173000
DTEND;TZID=America/Chicago:20230928T173000
DTSTAMP:20260424T105438
CREATED:20230705T141018Z
LAST-MODIFIED:20230705T141018Z
UID:5161-1695922200-1695922200@nearwestsidemke.org
SUMMARY:District Three Crime and Safety Meeting
DESCRIPTION:Join Captain Bratchett in learning about the crime statistics for District 3. Meet some of your neighbors\, business owners and organizations to learn about new safety topics each month. The Community Liaison Officer and Community Partnership officers will be available for any other questions!
URL:https://nearwestsidemke.org/event/district-three-crime-and-safety-meeting/
LOCATION:Milwaukeek Police Departmernt District 3\, 2333 N 49th St\, Milwaukee\, WI\, 53210\, United States
END:VEVENT
BEGIN:VEVENT
DTSTART;TZID=America/Chicago:20230223T173000
DTEND;TZID=America/Chicago:20230223T183000
DTSTAMP:20260424T105438
CREATED:20230221T150526Z
LAST-MODIFIED:20230221T150526Z
UID:3826-1677173400-1677177000@nearwestsidemke.org
SUMMARY:MPD3 Crime and Safety meeting
DESCRIPTION:Monthly Crime and Safety Update at Milwaukee Police Department Distrct 3
URL:https://nearwestsidemke.org/event/mpd3-crime-and-safety-meeting/
LOCATION:Milwaukeek Police Departmernt District 3\, 2333 N 49th St\, Milwaukee\, WI\, 53210\, United States
ATTACH;FMTTYPE=image/jpeg:https://nearwestsidemke.org/wp-content/uploads/2023/02/Image-2-20-23-at-4.23-PM.jpeg
END:VEVENT
END:VCALENDAR