BEGIN:VCALENDAR
VERSION:2.0
PRODID:-//Near West Side Partners - ECPv6.15.20//NONSGML v1.0//EN
CALSCALE:GREGORIAN
METHOD:PUBLISH
X-WR-CALNAME:Near West Side Partners
X-ORIGINAL-URL:https://nearwestsidemke.org
X-WR-CALDESC:Events for Near West Side Partners
REFRESH-INTERVAL;VALUE=DURATION:PT1H
X-Robots-Tag:noindex
X-PUBLISHED-TTL:PT1H
BEGIN:VTIMEZONE
TZID:America/Chicago
BEGIN:DAYLIGHT
TZOFFSETFROM:-0600
TZOFFSETTO:-0500
TZNAME:CDT
DTSTART:20210314T080000
END:DAYLIGHT
BEGIN:STANDARD
TZOFFSETFROM:-0500
TZOFFSETTO:-0600
TZNAME:CST
DTSTART:20211107T070000
END:STANDARD
BEGIN:DAYLIGHT
TZOFFSETFROM:-0600
TZOFFSETTO:-0500
TZNAME:CDT
DTSTART:20220313T080000
END:DAYLIGHT
BEGIN:STANDARD
TZOFFSETFROM:-0500
TZOFFSETTO:-0600
TZNAME:CST
DTSTART:20221106T070000
END:STANDARD
BEGIN:DAYLIGHT
TZOFFSETFROM:-0600
TZOFFSETTO:-0500
TZNAME:CDT
DTSTART:20230312T080000
END:DAYLIGHT
BEGIN:STANDARD
TZOFFSETFROM:-0500
TZOFFSETTO:-0600
TZNAME:CST
DTSTART:20231105T070000
END:STANDARD
BEGIN:DAYLIGHT
TZOFFSETFROM:-0600
TZOFFSETTO:-0500
TZNAME:CDT
DTSTART:20240310T080000
END:DAYLIGHT
BEGIN:STANDARD
TZOFFSETFROM:-0500
TZOFFSETTO:-0600
TZNAME:CST
DTSTART:20241103T070000
END:STANDARD
BEGIN:DAYLIGHT
TZOFFSETFROM:-0600
TZOFFSETTO:-0500
TZNAME:CDT
DTSTART:20250309T080000
END:DAYLIGHT
BEGIN:STANDARD
TZOFFSETFROM:-0500
TZOFFSETTO:-0600
TZNAME:CST
DTSTART:20251102T070000
END:STANDARD
BEGIN:DAYLIGHT
TZOFFSETFROM:-0600
TZOFFSETTO:-0500
TZNAME:CDT
DTSTART:20260308T080000
END:DAYLIGHT
BEGIN:STANDARD
TZOFFSETFROM:-0500
TZOFFSETTO:-0600
TZNAME:CST
DTSTART:20261101T070000
END:STANDARD
END:VTIMEZONE
BEGIN:VEVENT
DTSTART;TZID=America/Chicago:20250407T173000
DTEND;TZID=America/Chicago:20250407T183000
DTSTAMP:20260421T121724
CREATED:20230202T163202Z
LAST-MODIFIED:20230202T163202Z
UID:4315-1744047000-1744050600@nearwestsidemke.org
SUMMARY:Washington Park Monthly Meeting
DESCRIPTION:Information sharing and an opportunity to connect with neighbors and providers.
URL:https://nearwestsidemke.org/event/washington-park-monthly-meeting/2025-04-07/
LOCATION:UMCS\, 3910 W Lisbon Ave\, Milwaukee\, WI\, United States
ORGANIZER;CN="United Methodist Children's Services":MAILTO:zoe.whorrall@umcs-wi.org
END:VEVENT
BEGIN:VEVENT
DTSTART;TZID=America/Chicago:20250303T173000
DTEND;TZID=America/Chicago:20250303T183000
DTSTAMP:20260421T121724
CREATED:20230202T163202Z
LAST-MODIFIED:20230202T163202Z
UID:3940-1741023000-1741026600@nearwestsidemke.org
SUMMARY:Washington Park Monthly Meeting
DESCRIPTION:Information sharing and an opportunity to connect with neighbors and providers.
URL:https://nearwestsidemke.org/event/washington-park-monthly-meeting/2025-03-03/
LOCATION:UMCS\, 3910 W Lisbon Ave\, Milwaukee\, WI\, United States
ORGANIZER;CN="United Methodist Children's Services":MAILTO:zoe.whorrall@umcs-wi.org
END:VEVENT
BEGIN:VEVENT
DTSTART;TZID=America/Chicago:20250203T173000
DTEND;TZID=America/Chicago:20250203T183000
DTSTAMP:20260421T121724
CREATED:20230202T163202Z
LAST-MODIFIED:20230202T163202Z
UID:3715-1738603800-1738607400@nearwestsidemke.org
SUMMARY:Washington Park Monthly Meeting
DESCRIPTION:Information sharing and an opportunity to connect with neighbors and providers.
URL:https://nearwestsidemke.org/event/washington-park-monthly-meeting/2025-02-03/
LOCATION:UMCS\, 3910 W Lisbon Ave\, Milwaukee\, WI\, United States
ORGANIZER;CN="United Methodist Children's Services":MAILTO:zoe.whorrall@umcs-wi.org
END:VEVENT
BEGIN:VEVENT
DTSTART;TZID=America/Chicago:20250106T173000
DTEND;TZID=America/Chicago:20250106T183000
DTSTAMP:20260421T121724
CREATED:20230202T163202Z
LAST-MODIFIED:20230202T163202Z
UID:3693-1736184600-1736188200@nearwestsidemke.org
SUMMARY:Washington Park Monthly Meeting
DESCRIPTION:Information sharing and an opportunity to connect with neighbors and providers.
URL:https://nearwestsidemke.org/event/washington-park-monthly-meeting/2025-01-06/
LOCATION:UMCS\, 3910 W Lisbon Ave\, Milwaukee\, WI\, United States
ORGANIZER;CN="United Methodist Children's Services":MAILTO:zoe.whorrall@umcs-wi.org
END:VEVENT
BEGIN:VEVENT
DTSTART;TZID=America/Chicago:20241202T173000
DTEND;TZID=America/Chicago:20241202T183000
DTSTAMP:20260421T121724
CREATED:20230202T163202Z
LAST-MODIFIED:20230202T163202Z
UID:3692-1733160600-1733164200@nearwestsidemke.org
SUMMARY:Washington Park Monthly Meeting
DESCRIPTION:Information sharing and an opportunity to connect with neighbors and providers.
URL:https://nearwestsidemke.org/event/washington-park-monthly-meeting/2024-12-02/
LOCATION:UMCS\, 3910 W Lisbon Ave\, Milwaukee\, WI\, United States
ORGANIZER;CN="United Methodist Children's Services":MAILTO:zoe.whorrall@umcs-wi.org
END:VEVENT
BEGIN:VEVENT
DTSTART;TZID=America/Chicago:20241104T173000
DTEND;TZID=America/Chicago:20241104T183000
DTSTAMP:20260421T121724
CREATED:20230202T163202Z
LAST-MODIFIED:20230202T163202Z
UID:3691-1730741400-1730745000@nearwestsidemke.org
SUMMARY:Washington Park Monthly Meeting
DESCRIPTION:Information sharing and an opportunity to connect with neighbors and providers.
URL:https://nearwestsidemke.org/event/washington-park-monthly-meeting/2024-11-04/
LOCATION:UMCS\, 3910 W Lisbon Ave\, Milwaukee\, WI\, United States
ORGANIZER;CN="United Methodist Children's Services":MAILTO:zoe.whorrall@umcs-wi.org
END:VEVENT
BEGIN:VEVENT
DTSTART;TZID=America/Chicago:20230206T173000
DTEND;TZID=America/Chicago:20230206T183000
DTSTAMP:20260421T121724
CREATED:20230202T163202Z
LAST-MODIFIED:20230202T163202Z
UID:3667-1675704600-1675708200@nearwestsidemke.org
SUMMARY:Washington Park Monthly Meeting
DESCRIPTION:Information sharing and an opportunity to connect with neighbors and providers.
URL:https://nearwestsidemke.org/event/washington-park-monthly-meeting/2023-02-06/
LOCATION:UMCS\, 3910 W Lisbon Ave\, Milwaukee\, WI\, United States
ORGANIZER;CN="United Methodist Children's Services":MAILTO:zoe.whorrall@umcs-wi.org
END:VEVENT
BEGIN:VEVENT
DTSTART;TZID=America/Chicago:20220422T153000
DTEND;TZID=America/Chicago:20220422T163000
DTSTAMP:20260421T121724
CREATED:20220418T162433Z
LAST-MODIFIED:20220418T162433Z
UID:1784-1650641400-1650645000@nearwestsidemke.org
SUMMARY:Bethune Academy Neighborhood Cleanup
DESCRIPTION:Let’s celebrate the Washington Park Neighborhood together by picking up trash and building community. This neighborhood cleanup is for children and their families (1st-12th graders are welcome)\, and will be hosted by United Methodist Children’s Services and Bethune Academy. Meeting location is the back parking lot of Bethune Academy at the intersection of North 35th Street and West Galena Street.
URL:https://nearwestsidemke.org/event/bethune-academy-neighborhood-cleanup/
LOCATION:Bethune Academy\, 1535 N. 35th Street\, Milwaukee\, WI\, 53208\, United States
ATTACH;FMTTYPE=image/png:https://nearwestsidemke.org/wp-content/uploads/2022/04/Bethune-Cleanup-3.png
ORGANIZER;CN="United Methodist Children's Services":MAILTO:zoe.whorrall@umcs-wi.org
END:VEVENT
END:VCALENDAR