BEGIN:VCALENDAR
VERSION:2.0
PRODID:-//Near West Side Partners - ECPv6.15.20//NONSGML v1.0//EN
CALSCALE:GREGORIAN
METHOD:PUBLISH
X-WR-CALNAME:Near West Side Partners
X-ORIGINAL-URL:https://nearwestsidemke.org
X-WR-CALDESC:Events for Near West Side Partners
REFRESH-INTERVAL;VALUE=DURATION:PT1H
X-Robots-Tag:noindex
X-PUBLISHED-TTL:PT1H
BEGIN:VTIMEZONE
TZID:America/Chicago
BEGIN:DAYLIGHT
TZOFFSETFROM:-0600
TZOFFSETTO:-0500
TZNAME:CDT
DTSTART:20220313T080000
END:DAYLIGHT
BEGIN:STANDARD
TZOFFSETFROM:-0500
TZOFFSETTO:-0600
TZNAME:CST
DTSTART:20221106T070000
END:STANDARD
BEGIN:DAYLIGHT
TZOFFSETFROM:-0600
TZOFFSETTO:-0500
TZNAME:CDT
DTSTART:20230312T080000
END:DAYLIGHT
BEGIN:STANDARD
TZOFFSETFROM:-0500
TZOFFSETTO:-0600
TZNAME:CST
DTSTART:20231105T070000
END:STANDARD
BEGIN:DAYLIGHT
TZOFFSETFROM:-0600
TZOFFSETTO:-0500
TZNAME:CDT
DTSTART:20240310T080000
END:DAYLIGHT
BEGIN:STANDARD
TZOFFSETFROM:-0500
TZOFFSETTO:-0600
TZNAME:CST
DTSTART:20241103T070000
END:STANDARD
BEGIN:DAYLIGHT
TZOFFSETFROM:-0600
TZOFFSETTO:-0500
TZNAME:CDT
DTSTART:20250309T080000
END:DAYLIGHT
BEGIN:STANDARD
TZOFFSETFROM:-0500
TZOFFSETTO:-0600
TZNAME:CST
DTSTART:20251102T070000
END:STANDARD
BEGIN:DAYLIGHT
TZOFFSETFROM:-0600
TZOFFSETTO:-0500
TZNAME:CDT
DTSTART:20260308T080000
END:DAYLIGHT
BEGIN:STANDARD
TZOFFSETFROM:-0500
TZOFFSETTO:-0600
TZNAME:CST
DTSTART:20261101T070000
END:STANDARD
BEGIN:DAYLIGHT
TZOFFSETFROM:-0600
TZOFFSETTO:-0500
TZNAME:CDT
DTSTART:20270314T080000
END:DAYLIGHT
BEGIN:STANDARD
TZOFFSETFROM:-0500
TZOFFSETTO:-0600
TZNAME:CST
DTSTART:20271107T070000
END:STANDARD
END:VTIMEZONE
BEGIN:VEVENT
DTSTART;TZID=America/Chicago:20260215T100000
DTEND;TZID=America/Chicago:20260215T143000
DTSTAMP:20260419T092311
CREATED:20260130T201951Z
LAST-MODIFIED:20260130T201951Z
UID:36482-1771149600-1771165800@nearwestsidemke.org
SUMMARY:Blood Drive at the Pabst Mansion
DESCRIPTION:Give back in a meaningful way at the historic Pabst Mansion by participating in our upcoming blood drive in partnership with Versiti Blood Center of Wisconsin. Your donation can help save lives — and as a thank-you\, all blood drive participants will receive free admission to the Pabst Mansion for a classic guided or self-guided tour on the day of the drive. Join us for this special opportunity to support your community while experiencing one of Milwaukee’s most treasured landmarks.
URL:https://nearwestsidemke.org/event/blood-drive-at-the-pabst-mansion/
LOCATION:Pabst Mansion\, 2000 W. Wisconsin Ave.\, Milwaukee\, WI\, 53233\, United States
ATTACH;FMTTYPE=image/jpeg:https://nearwestsidemke.org/wp-content/uploads/2026/01/business-card-no-pavillion.jpg
ORGANIZER;CN="Pabst Mansion":MAILTO:info@pabstmansion.com
END:VEVENT
BEGIN:VEVENT
DTSTART;TZID=America/Chicago:20251031T163000
DTEND;TZID=America/Chicago:20251031T173000
DTSTAMP:20260419T092311
CREATED:20250728T152356Z
LAST-MODIFIED:20250728T152356Z
UID:25393-1761928200-1761931800@nearwestsidemke.org
SUMMARY:Illuminating the Dark Tours at Pabst Mansion
DESCRIPTION:This specialty afterhours tour offered only in October will take place in a dimly lit Mansion where themes of darkness and the revealing of unseen spaces will be explored\, offering visitors an opportunity to see the Pabst Mansion in a ‘new light’. Visitors will be guided by candlelight as they explore the dark\, in areas varying from literal light sources in the home\, to approaching the darkness of loss\, to viewing hidden compartments and seldom-seen lower level spaces.
URL:https://nearwestsidemke.org/event/illuminating-the-dark-tours-at-pabst-mansion/2025-10-31/
LOCATION:Pabst Mansion\, 2000 W. Wisconsin Ave.\, Milwaukee\, WI\, 53233\, United States
ATTACH;FMTTYPE=image/jpeg:https://nearwestsidemke.org/wp-content/uploads/2025/07/Illuminating-the-Dark-Photo-scaled.jpg
ORGANIZER;CN="Pabst Mansion":MAILTO:info@pabstmansion.com
END:VEVENT
BEGIN:VEVENT
DTSTART;TZID=America/Chicago:20251025T163000
DTEND;TZID=America/Chicago:20251025T173000
DTSTAMP:20260419T092311
CREATED:20250728T152354Z
LAST-MODIFIED:20250728T152354Z
UID:25392-1761409800-1761413400@nearwestsidemke.org
SUMMARY:Illuminating the Dark Tours at Pabst Mansion
DESCRIPTION:This specialty afterhours tour offered only in October will take place in a dimly lit Mansion where themes of darkness and the revealing of unseen spaces will be explored\, offering visitors an opportunity to see the Pabst Mansion in a ‘new light’. Visitors will be guided by candlelight as they explore the dark\, in areas varying from literal light sources in the home\, to approaching the darkness of loss\, to viewing hidden compartments and seldom-seen lower level spaces.
URL:https://nearwestsidemke.org/event/illuminating-the-dark-tours-at-pabst-mansion/2025-10-25/
LOCATION:Pabst Mansion\, 2000 W. Wisconsin Ave.\, Milwaukee\, WI\, 53233\, United States
ATTACH;FMTTYPE=image/jpeg:https://nearwestsidemke.org/wp-content/uploads/2025/07/Illuminating-the-Dark-Photo-scaled.jpg
ORGANIZER;CN="Pabst Mansion":MAILTO:info@pabstmansion.com
END:VEVENT
BEGIN:VEVENT
DTSTART;TZID=America/Chicago:20251024T163000
DTEND;TZID=America/Chicago:20251024T173000
DTSTAMP:20260419T092311
CREATED:20250728T152353Z
LAST-MODIFIED:20250728T152353Z
UID:25391-1761323400-1761327000@nearwestsidemke.org
SUMMARY:Illuminating the Dark Tours at Pabst Mansion
DESCRIPTION:This specialty afterhours tour offered only in October will take place in a dimly lit Mansion where themes of darkness and the revealing of unseen spaces will be explored\, offering visitors an opportunity to see the Pabst Mansion in a ‘new light’. Visitors will be guided by candlelight as they explore the dark\, in areas varying from literal light sources in the home\, to approaching the darkness of loss\, to viewing hidden compartments and seldom-seen lower level spaces.
URL:https://nearwestsidemke.org/event/illuminating-the-dark-tours-at-pabst-mansion/2025-10-24/
LOCATION:Pabst Mansion\, 2000 W. Wisconsin Ave.\, Milwaukee\, WI\, 53233\, United States
ATTACH;FMTTYPE=image/jpeg:https://nearwestsidemke.org/wp-content/uploads/2025/07/Illuminating-the-Dark-Photo-scaled.jpg
ORGANIZER;CN="Pabst Mansion":MAILTO:info@pabstmansion.com
END:VEVENT
BEGIN:VEVENT
DTSTART;TZID=America/Chicago:20251018T163000
DTEND;TZID=America/Chicago:20251018T173000
DTSTAMP:20260419T092311
CREATED:20250728T152352Z
LAST-MODIFIED:20250728T152352Z
UID:25390-1760805000-1760808600@nearwestsidemke.org
SUMMARY:Illuminating the Dark Tours at Pabst Mansion
DESCRIPTION:This specialty afterhours tour offered only in October will take place in a dimly lit Mansion where themes of darkness and the revealing of unseen spaces will be explored\, offering visitors an opportunity to see the Pabst Mansion in a ‘new light’. Visitors will be guided by candlelight as they explore the dark\, in areas varying from literal light sources in the home\, to approaching the darkness of loss\, to viewing hidden compartments and seldom-seen lower level spaces.
URL:https://nearwestsidemke.org/event/illuminating-the-dark-tours-at-pabst-mansion/2025-10-18/
LOCATION:Pabst Mansion\, 2000 W. Wisconsin Ave.\, Milwaukee\, WI\, 53233\, United States
ATTACH;FMTTYPE=image/jpeg:https://nearwestsidemke.org/wp-content/uploads/2025/07/Illuminating-the-Dark-Photo-scaled.jpg
ORGANIZER;CN="Pabst Mansion":MAILTO:info@pabstmansion.com
END:VEVENT
BEGIN:VEVENT
DTSTART;TZID=America/Chicago:20251017T163000
DTEND;TZID=America/Chicago:20251017T173000
DTSTAMP:20260419T092311
CREATED:20250728T152350Z
LAST-MODIFIED:20250728T152350Z
UID:25389-1760718600-1760722200@nearwestsidemke.org
SUMMARY:Illuminating the Dark Tours at Pabst Mansion
DESCRIPTION:This specialty afterhours tour offered only in October will take place in a dimly lit Mansion where themes of darkness and the revealing of unseen spaces will be explored\, offering visitors an opportunity to see the Pabst Mansion in a ‘new light’. Visitors will be guided by candlelight as they explore the dark\, in areas varying from literal light sources in the home\, to approaching the darkness of loss\, to viewing hidden compartments and seldom-seen lower level spaces.
URL:https://nearwestsidemke.org/event/illuminating-the-dark-tours-at-pabst-mansion/2025-10-17/
LOCATION:Pabst Mansion\, 2000 W. Wisconsin Ave.\, Milwaukee\, WI\, 53233\, United States
ATTACH;FMTTYPE=image/jpeg:https://nearwestsidemke.org/wp-content/uploads/2025/07/Illuminating-the-Dark-Photo-scaled.jpg
ORGANIZER;CN="Pabst Mansion":MAILTO:info@pabstmansion.com
END:VEVENT
BEGIN:VEVENT
DTSTART;TZID=America/Chicago:20251011T163000
DTEND;TZID=America/Chicago:20251011T173000
DTSTAMP:20260419T092311
CREATED:20250728T152349Z
LAST-MODIFIED:20250728T152349Z
UID:25388-1760200200-1760203800@nearwestsidemke.org
SUMMARY:Illuminating the Dark Tours at Pabst Mansion
DESCRIPTION:This specialty afterhours tour offered only in October will take place in a dimly lit Mansion where themes of darkness and the revealing of unseen spaces will be explored\, offering visitors an opportunity to see the Pabst Mansion in a ‘new light’. Visitors will be guided by candlelight as they explore the dark\, in areas varying from literal light sources in the home\, to approaching the darkness of loss\, to viewing hidden compartments and seldom-seen lower level spaces.
URL:https://nearwestsidemke.org/event/illuminating-the-dark-tours-at-pabst-mansion/2025-10-11/
LOCATION:Pabst Mansion\, 2000 W. Wisconsin Ave.\, Milwaukee\, WI\, 53233\, United States
ATTACH;FMTTYPE=image/jpeg:https://nearwestsidemke.org/wp-content/uploads/2025/07/Illuminating-the-Dark-Photo-scaled.jpg
ORGANIZER;CN="Pabst Mansion":MAILTO:info@pabstmansion.com
END:VEVENT
BEGIN:VEVENT
DTSTART;TZID=America/Chicago:20251010T163000
DTEND;TZID=America/Chicago:20251010T173000
DTSTAMP:20260419T092311
CREATED:20250728T152348Z
LAST-MODIFIED:20250728T152348Z
UID:25387-1760113800-1760117400@nearwestsidemke.org
SUMMARY:Illuminating the Dark Tours at Pabst Mansion
DESCRIPTION:This specialty afterhours tour offered only in October will take place in a dimly lit Mansion where themes of darkness and the revealing of unseen spaces will be explored\, offering visitors an opportunity to see the Pabst Mansion in a ‘new light’. Visitors will be guided by candlelight as they explore the dark\, in areas varying from literal light sources in the home\, to approaching the darkness of loss\, to viewing hidden compartments and seldom-seen lower level spaces.
URL:https://nearwestsidemke.org/event/illuminating-the-dark-tours-at-pabst-mansion/2025-10-10/
LOCATION:Pabst Mansion\, 2000 W. Wisconsin Ave.\, Milwaukee\, WI\, 53233\, United States
ATTACH;FMTTYPE=image/jpeg:https://nearwestsidemke.org/wp-content/uploads/2025/07/Illuminating-the-Dark-Photo-scaled.jpg
ORGANIZER;CN="Pabst Mansion":MAILTO:info@pabstmansion.com
END:VEVENT
BEGIN:VEVENT
DTSTART;TZID=America/Chicago:20251004T163000
DTEND;TZID=America/Chicago:20251004T173000
DTSTAMP:20260419T092311
CREATED:20250728T152347Z
LAST-MODIFIED:20250728T152347Z
UID:25385-1759595400-1759599000@nearwestsidemke.org
SUMMARY:Illuminating the Dark Tours at Pabst Mansion
DESCRIPTION:This specialty afterhours tour offered only in October will take place in a dimly lit Mansion where themes of darkness and the revealing of unseen spaces will be explored\, offering visitors an opportunity to see the Pabst Mansion in a ‘new light’. Visitors will be guided by candlelight as they explore the dark\, in areas varying from literal light sources in the home\, to approaching the darkness of loss\, to viewing hidden compartments and seldom-seen lower level spaces.
URL:https://nearwestsidemke.org/event/illuminating-the-dark-tours-at-pabst-mansion/2025-10-04/
LOCATION:Pabst Mansion\, 2000 W. Wisconsin Ave.\, Milwaukee\, WI\, 53233\, United States
ATTACH;FMTTYPE=image/jpeg:https://nearwestsidemke.org/wp-content/uploads/2025/07/Illuminating-the-Dark-Photo-scaled.jpg
ORGANIZER;CN="Pabst Mansion":MAILTO:info@pabstmansion.com
END:VEVENT
BEGIN:VEVENT
DTSTART;TZID=America/Chicago:20240405T170000
DTEND;TZID=America/Chicago:20240405T180000
DTSTAMP:20260419T092311
CREATED:20240219T153458Z
LAST-MODIFIED:20240219T153458Z
UID:8533-1712336400-1712340000@nearwestsidemke.org
SUMMARY:Pabst Mansion Lecture: Conrad Seipp and His Milwaukee Neighbors
DESCRIPTION:Did you know that at one point\, in the early 1870s\, Chicago brewer Conrad Seipp led the United States in beer production? This was short lived however as the death of his business partner and competition from those industrious brewers “up north” changed the American brewing landscape forever\, making Milwaukee the Beer Capital of the World. \nDesimone will give an overview of the Seipp Brewing Company as well as Black Point Estate and Gardens\, the Seipp summer residence that is now a historic house museum operated by the Wisconsin Historical Society. \nDave Desimone is the director of Black Point Estate and Gardens. Dave holds a bachelor’s degree in history from Youngstown State University and a master’s degree in public history from Kent State University. Desimone has held prior positions with the Ohio Historical Society\, Stan Hywet Hall and Gardens and the Cleveland Botanical Garden before moving to Wisconsin in 2013.
URL:https://nearwestsidemke.org/event/pabst-mansion-lecture-conrad-seipp-and-his-milwaukee-neighbors/
LOCATION:Pabst Mansion\, 2000 W. Wisconsin Ave.\, Milwaukee\, WI\, 53233\, United States
ATTACH;FMTTYPE=image/png:https://nearwestsidemke.org/wp-content/uploads/2024/02/Untitled-design-37.png
ORGANIZER;CN="Pabst Mansion":MAILTO:info@pabstmansion.com
END:VEVENT
BEGIN:VEVENT
DTSTART;TZID=America/Chicago:20240322T170000
DTEND;TZID=America/Chicago:20240322T180000
DTSTAMP:20260419T092311
CREATED:20240219T153422Z
LAST-MODIFIED:20240219T153422Z
UID:8530-1711126800-1711130400@nearwestsidemke.org
SUMMARY:Pabst Mansion Lecture: Great Lake Shipwrecks Connected to Captain Pabst
DESCRIPTION:Before he became one of the nations most famous beer barons\, Frederick Pabst was witness to the sinking of the steamer Niagara in 1856. Hear about his heroic efforts to save the captain of the sinking ship and learn about another shipwreck that has connections to Captain Pabst. \nIn this talk\, Cullen will also give guests a sneak peak of an upcoming exhibit at the Wisconsin Maritime Museum that will include many artifacts that were salvaged from the shipwreck Niagara in the 1970s and ’80s.   \nKevin Cullen is the Deputy Director and Chief Curator at the Wisconsin Maritime Museum in Manitowoc\, WI.
URL:https://nearwestsidemke.org/event/pabst-mansion-lecture-great-lake-shipwrecks-connected-to-captain-pabst/
LOCATION:Pabst Mansion\, 2000 W. Wisconsin Ave.\, Milwaukee\, WI\, 53233\, United States
ORGANIZER;CN="Pabst Mansion":MAILTO:info@pabstmansion.com
END:VEVENT
BEGIN:VEVENT
DTSTART;TZID=America/Chicago:20240302T133000
DTEND;TZID=America/Chicago:20240302T143000
DTSTAMP:20260419T092311
CREATED:20240205T155911Z
LAST-MODIFIED:20240205T155911Z
UID:8167-1709386200-1709389800@nearwestsidemke.org
SUMMARY:Women of the Pabst Mansion
DESCRIPTION:Join us during Women’s History Month as we shine a spotlight on the women of the Pabst Mansion. This tour dives into the lives of women in the Pabst family\, female servants\, female artists and depictions of women in art of the home\, and gendered social norms in late-19th century America.
URL:https://nearwestsidemke.org/event/women-of-the-pabst-mansion/2024-03-02/
LOCATION:Pabst Mansion\, 2000 W. Wisconsin Ave.\, Milwaukee\, WI\, 53233\, United States
ATTACH;FMTTYPE=image/jpeg:https://nearwestsidemke.org/wp-content/uploads/2024/02/Elizabeth_Marie_Emma-c.1882_a-mke365.jpg
ORGANIZER;CN="Pabst Mansion":MAILTO:info@pabstmansion.com
END:VEVENT
BEGIN:VEVENT
DTSTART;TZID=America/Chicago:20230922T160000
DTEND;TZID=America/Chicago:20230922T170000
DTSTAMP:20260419T092311
CREATED:20230802T142542Z
LAST-MODIFIED:20230802T142542Z
UID:5490-1695398400-1695402000@nearwestsidemke.org
SUMMARY:Pabst Mansion Oktoberfest Tours
DESCRIPTION:Herzlich Willkommen\, Oktoberfest! Delve into Milwaukee’s vibrant German heritage on this special guided tour through the home of one of Milwaukee’s most famous German immigrant families. Hear stories of the Mansion’s history and its ties to the German community while sampling a selection of local Oktoberfest beers and German Riesling (the Captain’s favorite!) paired with Milwaukee-style German cuisine. With gemütlichkeit abound\, we invite you to prost like good old Captain Pabst!
URL:https://nearwestsidemke.org/event/pabst-mansion-oktoberfest-tours/2023-09-22/
LOCATION:Pabst Mansion\, 2000 W. Wisconsin Ave.\, Milwaukee\, WI\, 53233\, United States
ATTACH;FMTTYPE=image/png:https://nearwestsidemke.org/wp-content/uploads/2023/08/oktoberfest.png
ORGANIZER;CN="Pabst Mansion":MAILTO:info@pabstmansion.com
END:VEVENT
BEGIN:VEVENT
DTSTART;TZID=America/Chicago:20230913T100000
DTEND;TZID=America/Chicago:20230913T160000
DTSTAMP:20260419T092311
CREATED:20230911T143957Z
LAST-MODIFIED:20230911T143957Z
UID:5973-1694599200-1694620800@nearwestsidemke.org
SUMMARY:Tour Pabst Mansion
DESCRIPTION:Take a free tour of the Pabst Mansion. Learn about the Pabst family and Milwaukee history at this top destination in the Near West Side.
URL:https://nearwestsidemke.org/event/tour-pabst-mansion/
LOCATION:Pabst Mansion\, 2000 W. Wisconsin Ave.\, Milwaukee\, WI\, 53233\, United States
ATTACH;FMTTYPE=image/jpeg:https://nearwestsidemke.org/wp-content/uploads/2023/09/Image-9-10-23-at-8.02-PM.jpeg
ORGANIZER;CN="Pabst Mansion":MAILTO:info@pabstmansion.com
END:VEVENT
BEGIN:VEVENT
DTSTART;TZID=America/Chicago:20230908T173000
DTEND;TZID=America/Chicago:20230908T193000
DTSTAMP:20260419T092311
CREATED:20230802T142755Z
LAST-MODIFIED:20230802T142755Z
UID:5489-1694194200-1694201400@nearwestsidemke.org
SUMMARY:Pabst Mansion Beer Tasting
DESCRIPTION:Join beer aficionado Jerry Janiszewski as he guides your palate through pairings of local craft beers with sausage and cheese selections. Experience savory and sweet the way Captain Pabst would have intended…through beer!
URL:https://nearwestsidemke.org/event/pabst-mansion-beer-tasting/
LOCATION:Pabst Mansion\, 2000 W. Wisconsin Ave.\, Milwaukee\, WI\, 53233\, United States
ATTACH;FMTTYPE=image/png:https://nearwestsidemke.org/wp-content/uploads/2023/08/Copy-of-beer-tasting.png
ORGANIZER;CN="Pabst Mansion":MAILTO:info@pabstmansion.com
END:VEVENT
BEGIN:VEVENT
DTSTART;TZID=America/Chicago:20230421T173000
DTEND;TZID=America/Chicago:20230421T190000
DTSTAMP:20260419T092311
CREATED:20230308T173932Z
LAST-MODIFIED:20230308T173932Z
UID:3981-1682098200-1682103600@nearwestsidemke.org
SUMMARY:Spring Lecture Series: Interpreting the Pa(B)st; translating a Pabst Mansion Archival Collection
DESCRIPTION:We will discuss the UWM and Pabst Mansion partner project in which Viktorija and her masters students transcribe and translate the Pabst Mansion’s Best-Pabst Family Papers archival collection.
URL:https://nearwestsidemke.org/event/spring-lecture-series-interpreting-the-pabst-translating-a-pabst-mansion-archival-collection/
LOCATION:Pabst Mansion\, 2000 W. Wisconsin Ave.\, Milwaukee\, WI\, 53233\, United States
ATTACH;FMTTYPE=image/png:https://nearwestsidemke.org/wp-content/uploads/2023/03/unnamed-2.png
ORGANIZER;CN="Pabst Mansion":MAILTO:info@pabstmansion.com
END:VEVENT
BEGIN:VEVENT
DTSTART;TZID=America/Chicago:20230310T173000
DTEND;TZID=America/Chicago:20230310T190000
DTSTAMP:20260419T092311
CREATED:20230308T174116Z
LAST-MODIFIED:20230308T174116Z
UID:3974-1678469400-1678474800@nearwestsidemke.org
SUMMARY:Pabst Mansion Lectures Series
DESCRIPTION:MARCH 10TH: PABST IN MILWAUKEE\nDave Fehlauer\, Pabst Mansion Volunteer\nGain insight into the man himself; his life as an immigrant\, his cultural and philanthropic contributions\, and his legacy.
URL:https://nearwestsidemke.org/event/pabst-mansion-lectures-series/
LOCATION:Pabst Masion\, 2000 W. Wisconsin Ave.\, Milwaukee\, WI\, 53233
ATTACH;FMTTYPE=image/png:https://nearwestsidemke.org/wp-content/uploads/2023/03/unnamed.png
ORGANIZER;CN="Pabst Mansion":MAILTO:info@pabstmansion.com
END:VEVENT
END:VCALENDAR