BEGIN:VCALENDAR
VERSION:2.0
PRODID:-//Near West Side Partners - ECPv6.15.20//NONSGML v1.0//EN
CALSCALE:GREGORIAN
METHOD:PUBLISH
X-WR-CALNAME:Near West Side Partners
X-ORIGINAL-URL:https://nearwestsidemke.org
X-WR-CALDESC:Events for Near West Side Partners
REFRESH-INTERVAL;VALUE=DURATION:PT1H
X-Robots-Tag:noindex
X-PUBLISHED-TTL:PT1H
BEGIN:VTIMEZONE
TZID:America/Chicago
BEGIN:DAYLIGHT
TZOFFSETFROM:-0600
TZOFFSETTO:-0500
TZNAME:CDT
DTSTART:20220313T080000
END:DAYLIGHT
BEGIN:STANDARD
TZOFFSETFROM:-0500
TZOFFSETTO:-0600
TZNAME:CST
DTSTART:20221106T070000
END:STANDARD
BEGIN:DAYLIGHT
TZOFFSETFROM:-0600
TZOFFSETTO:-0500
TZNAME:CDT
DTSTART:20230312T080000
END:DAYLIGHT
BEGIN:STANDARD
TZOFFSETFROM:-0500
TZOFFSETTO:-0600
TZNAME:CST
DTSTART:20231105T070000
END:STANDARD
BEGIN:DAYLIGHT
TZOFFSETFROM:-0600
TZOFFSETTO:-0500
TZNAME:CDT
DTSTART:20240310T080000
END:DAYLIGHT
BEGIN:STANDARD
TZOFFSETFROM:-0500
TZOFFSETTO:-0600
TZNAME:CST
DTSTART:20241103T070000
END:STANDARD
END:VTIMEZONE
BEGIN:VEVENT
DTSTART;TZID=America/Chicago:20230513T083000
DTEND;TZID=America/Chicago:20230513T093000
DTSTAMP:20260421T093311
CREATED:20230501T154257Z
LAST-MODIFIED:20230501T154257Z
UID:4502-1683966600-1683970200@nearwestsidemke.org
SUMMARY:Walk with a Doc MKE @ Washington Park
DESCRIPTION:Join AARP Wisconsin for Walk with a Doc MKE! This is a walking program for everyone interested in taking steps for a healthier lifestyle. These doctor-led walking groups are a safe\, fun\, and FREE place to get some steps\, learn about health\, and meet new friends. This is open to ALL ages! All first time walkers will receive a free Walk with a Doc Tshirt. Note: You must be at the event to receive the gift. While supplies last. Walk will take place outside\, so please dress weather appropriate.
URL:https://nearwestsidemke.org/event/walk-with-a-doc-mke-washington-park/
LOCATION:Washington Park Senior Center\, 4420 W Vliet St.\, Milwaukee\, Wisconsin\, 53208
END:VEVENT
END:VCALENDAR