BEGIN:VCALENDAR
VERSION:2.0
PRODID:-//Near West Side Partners - ECPv6.15.20//NONSGML v1.0//EN
CALSCALE:GREGORIAN
METHOD:PUBLISH
X-WR-CALNAME:Near West Side Partners
X-ORIGINAL-URL:https://nearwestsidemke.org
X-WR-CALDESC:Events for Near West Side Partners
REFRESH-INTERVAL;VALUE=DURATION:PT1H
X-Robots-Tag:noindex
X-PUBLISHED-TTL:PT1H
BEGIN:VTIMEZONE
TZID:America/Chicago
BEGIN:DAYLIGHT
TZOFFSETFROM:-0600
TZOFFSETTO:-0500
TZNAME:CDT
DTSTART:20230312T080000
END:DAYLIGHT
BEGIN:STANDARD
TZOFFSETFROM:-0500
TZOFFSETTO:-0600
TZNAME:CST
DTSTART:20231105T070000
END:STANDARD
BEGIN:DAYLIGHT
TZOFFSETFROM:-0600
TZOFFSETTO:-0500
TZNAME:CDT
DTSTART:20240310T080000
END:DAYLIGHT
BEGIN:STANDARD
TZOFFSETFROM:-0500
TZOFFSETTO:-0600
TZNAME:CST
DTSTART:20241103T070000
END:STANDARD
BEGIN:DAYLIGHT
TZOFFSETFROM:-0600
TZOFFSETTO:-0500
TZNAME:CDT
DTSTART:20250309T080000
END:DAYLIGHT
BEGIN:STANDARD
TZOFFSETFROM:-0500
TZOFFSETTO:-0600
TZNAME:CST
DTSTART:20251102T070000
END:STANDARD
END:VTIMEZONE
BEGIN:VEVENT
DTSTART;TZID=America/Chicago:20240208T150000
DTEND;TZID=America/Chicago:20240208T170000
DTSTAMP:20260423T170525
CREATED:20240201T160134Z
LAST-MODIFIED:20240201T160134Z
UID:8114-1707404400-1707411600@nearwestsidemke.org
SUMMARY:Manufacturing Hiring Event
DESCRIPTION:Manufacturing Hiring Event \nOn The Spot Interviews\nThursday\, February 8th\, \n3:00pm\nEmploy Milwaukee\n2342 N 27th St
URL:https://nearwestsidemke.org/event/manufacturing-hiring-event/
LOCATION:Employ Milwaukee\, 2342 North 27th Street\, Milwaukee\, Wisconsin\, 53210
END:VEVENT
BEGIN:VEVENT
DTSTART;TZID=America/Chicago:20240216T093000
DTEND;TZID=America/Chicago:20240216T103000
DTSTAMP:20260423T170525
CREATED:20240201T163655Z
LAST-MODIFIED:20240201T163655Z
UID:8130-1708075800-1708079400@nearwestsidemke.org
SUMMARY:Forum with Milwaukee Mayor Cavalier Johnson
DESCRIPTION:League of Progressive Seniors is hosting a forum with Mayor Johnson on problems and promise of our city. Please register by Tom Callen at tfcallan@gmail.com
URL:https://nearwestsidemke.org/event/forum-with-milwaukee-mayor-cavalier-johnson/
LOCATION:Knickerbocker Cafe\, 1028 E. Juneau Ave.\, Milwaukee\, WI
ATTACH;FMTTYPE=image/jpeg:https://nearwestsidemke.org/wp-content/uploads/2024/02/Image-2-1-24-at-10.11-AM.jpeg
END:VEVENT
BEGIN:VEVENT
DTSTART;VALUE=DATE:20240224
DTEND;VALUE=DATE:20240225
DTSTAMP:20260423T170525
CREATED:20240221T153719Z
LAST-MODIFIED:20240221T153719Z
UID:8611-1708732800-1708819199@nearwestsidemke.org
SUMMARY:CNOY Day
DESCRIPTION:Welcome to City on a Hill\, where we believe in the power of community to transform cities and families. Please see attached website for full details.
URL:https://nearwestsidemke.org/event/cnoy-day/
END:VEVENT
BEGIN:VEVENT
DTSTART;TZID=America/Chicago:20240224T150000
DTEND;TZID=America/Chicago:20240224T170000
DTSTAMP:20260423T170525
CREATED:20240206T201351Z
LAST-MODIFIED:20240206T201351Z
UID:8278-1708786800-1708794000@nearwestsidemke.org
SUMMARY:Khole's Beautiful Blues - Voices of The Village
DESCRIPTION:Presented by Bronzeville Arts Ensemble and Raising the Bar. Voices of The Village Discussion immediately follows the performance with Sheri Williams Pannell as the moderator.
URL:https://nearwestsidemke.org/event/kholes-beautiful-blues-voices-of-the-village/
LOCATION:Dr. Martin Luther King\, Jr. Community Center\, 1531  W. Vliet St.\, 1531 W. Vliet St.\, WI
ATTACH;FMTTYPE=image/jpeg:https://nearwestsidemke.org/wp-content/uploads/2024/02/thumbnail_Dear-Khloe-Blues-Campaign-Flyer-Voices-of-The-Village_Revised-1-19-2024.jpg
END:VEVENT
BEGIN:VEVENT
DTSTART;TZID=America/Chicago:20240226T173000
DTEND;TZID=America/Chicago:20240226T183000
DTSTAMP:20260423T170525
CREATED:20240221T154221Z
LAST-MODIFIED:20240221T154221Z
UID:8589-1708968600-1708972200@nearwestsidemke.org
SUMMARY:Western Milwaukee Phase 2B Levee and Floodwall Project Event #1 ZOOM
DESCRIPTION:MMSD is hosting two public events focused on the upcoming work planned in State Street. Learn about this major project taking place in State Street from the W. 46th St. to the W. 51st St. and from W. 60th St. to W. 63rd St. The work in State Street is required to meet the Federal Emergency Management Agency levee flood management standards. RSVP for the Zoom with link attached.
URL:https://nearwestsidemke.org/event/western-milwaukee-phase-2b-levee-and-floodwall-project-event-1-zoom/
END:VEVENT
BEGIN:VEVENT
DTSTART;TZID=America/Chicago:20240227T163000
DTEND;TZID=America/Chicago:20240227T190000
DTSTAMP:20260423T170525
CREATED:20240214T190137Z
LAST-MODIFIED:20240214T190137Z
UID:8476-1709051400-1709060400@nearwestsidemke.org
SUMMARY:Vision Zero
DESCRIPTION:Your voice is needed for safe streets! The city of Milwaukee is creating a vision zero plan to make our streets safer and eliminate traffic deaths by 2037
URL:https://nearwestsidemke.org/event/vision-zero/
LOCATION:mitchell street library\, 906 w. Historic Mitchell St.\, Milwaukee
ATTACH;FMTTYPE=image/jpeg:https://nearwestsidemke.org/wp-content/uploads/2024/02/MKE_VisionZero_social_January2023.jpg
END:VEVENT
BEGIN:VEVENT
DTSTART;TZID=America/Chicago:20240229T150000
DTEND;TZID=America/Chicago:20240229T180000
DTSTAMP:20260423T170525
CREATED:20240229T145044Z
LAST-MODIFIED:20240229T145044Z
UID:8788-1709218800-1709229600@nearwestsidemke.org
SUMMARY:North South Transit Enhancement Community meeting.
DESCRIPTION:This meeting is a chance to provide input on project elements such as bus-only lanes\, station locations and more.
URL:https://nearwestsidemke.org/event/north-south-transit-enhancement-community-meeting/
LOCATION:Century City Tour\, 4201 N. 27th St\, Milwaukee\, WI\, United States
END:VEVENT
END:VCALENDAR