BEGIN:VCALENDAR
VERSION:2.0
PRODID:-//Near West Side Partners - ECPv6.15.20//NONSGML v1.0//EN
CALSCALE:GREGORIAN
METHOD:PUBLISH
X-ORIGINAL-URL:https://nearwestsidemke.org
X-WR-CALDESC:Events for Near West Side Partners
REFRESH-INTERVAL;VALUE=DURATION:PT1H
X-Robots-Tag:noindex
X-PUBLISHED-TTL:PT1H
BEGIN:VTIMEZONE
TZID:America/Chicago
BEGIN:DAYLIGHT
TZOFFSETFROM:-0600
TZOFFSETTO:-0500
TZNAME:CDT
DTSTART:20230312T080000
END:DAYLIGHT
BEGIN:STANDARD
TZOFFSETFROM:-0500
TZOFFSETTO:-0600
TZNAME:CST
DTSTART:20231105T070000
END:STANDARD
BEGIN:DAYLIGHT
TZOFFSETFROM:-0600
TZOFFSETTO:-0500
TZNAME:CDT
DTSTART:20240310T080000
END:DAYLIGHT
BEGIN:STANDARD
TZOFFSETFROM:-0500
TZOFFSETTO:-0600
TZNAME:CST
DTSTART:20241103T070000
END:STANDARD
BEGIN:DAYLIGHT
TZOFFSETFROM:-0600
TZOFFSETTO:-0500
TZNAME:CDT
DTSTART:20250309T080000
END:DAYLIGHT
BEGIN:STANDARD
TZOFFSETFROM:-0500
TZOFFSETTO:-0600
TZNAME:CST
DTSTART:20251102T070000
END:STANDARD
END:VTIMEZONE
BEGIN:VEVENT
DTSTART;TZID=America/Chicago:20240503T103000
DTEND;TZID=America/Chicago:20240503T113000
DTSTAMP:20260420T115925
CREATED:20240424T145124Z
LAST-MODIFIED:20240507T150107Z
UID:10762-1714732200-1714735800@nearwestsidemke.org
SUMMARY:Friendship Friday
DESCRIPTION:Be a friend\, bring a friend and make a friend! Join us at the Betty Brinn Children’s Museum for facilitated activities designed to encourage children (and adults!) to play and work together.
URL:https://nearwestsidemke.org/event/friendship-friday/2024-05-03/
LOCATION:Betty Brinn Children’s Museum\, 929 E Wisconsin Ave\, Milwaukee\, WI\, 53202\, United States
ORGANIZER;CN="Betty Brinn Children's Museum":MAILTO:questions@bbcmkids.org
END:VEVENT
END:VCALENDAR