BEGIN:VCALENDAR
VERSION:2.0
PRODID:-//Near West Side Partners - ECPv6.15.20//NONSGML v1.0//EN
CALSCALE:GREGORIAN
METHOD:PUBLISH
X-ORIGINAL-URL:https://nearwestsidemke.org
X-WR-CALDESC:Events for Near West Side Partners
REFRESH-INTERVAL;VALUE=DURATION:PT1H
X-Robots-Tag:noindex
X-PUBLISHED-TTL:PT1H
BEGIN:VTIMEZONE
TZID:America/Chicago
BEGIN:DAYLIGHT
TZOFFSETFROM:-0600
TZOFFSETTO:-0500
TZNAME:CDT
DTSTART:20230312T080000
END:DAYLIGHT
BEGIN:STANDARD
TZOFFSETFROM:-0500
TZOFFSETTO:-0600
TZNAME:CST
DTSTART:20231105T070000
END:STANDARD
BEGIN:DAYLIGHT
TZOFFSETFROM:-0600
TZOFFSETTO:-0500
TZNAME:CDT
DTSTART:20240310T080000
END:DAYLIGHT
BEGIN:STANDARD
TZOFFSETFROM:-0500
TZOFFSETTO:-0600
TZNAME:CST
DTSTART:20241103T070000
END:STANDARD
BEGIN:DAYLIGHT
TZOFFSETFROM:-0600
TZOFFSETTO:-0500
TZNAME:CDT
DTSTART:20250309T080000
END:DAYLIGHT
BEGIN:STANDARD
TZOFFSETFROM:-0500
TZOFFSETTO:-0600
TZNAME:CST
DTSTART:20251102T070000
END:STANDARD
END:VTIMEZONE
BEGIN:VEVENT
DTSTART;TZID=America/Chicago:20240429T100000
DTEND;TZID=America/Chicago:20240429T110000
DTSTAMP:20260422T071251
CREATED:20240424T145713Z
LAST-MODIFIED:20240424T145713Z
UID:10712-1714384800-1714388400@nearwestsidemke.org
SUMMARY:Global Palette
DESCRIPTION:Embark on a global journey at the Betty Brinn Children’s Museum through art projects inspired by different cultures.
URL:https://nearwestsidemke.org/event/global-palette/2024-04-29/
LOCATION:Betty Brinn Children’s Museum\, 929 E Wisconsin Ave\, Milwaukee\, WI\, 53202\, United States
ORGANIZER;CN="Betty Brinn Children's Museum":MAILTO:questions@bbcmkids.org
END:VEVENT
BEGIN:VEVENT
DTSTART;TZID=America/Chicago:20240429T130000
DTEND;TZID=America/Chicago:20240429T140000
DTSTAMP:20260422T071251
CREATED:20240424T145642Z
LAST-MODIFIED:20240424T145642Z
UID:10722-1714395600-1714399200@nearwestsidemke.org
SUMMARY:Toolbox
DESCRIPTION:Find out what is in the toolbox at Betty Brinn Children’s Museum. Every week we will put different tools in your hands and learn how and when to use them safely. Any age is welcome!
URL:https://nearwestsidemke.org/event/toolbox/2024-04-29/
LOCATION:Betty Brinn Children’s Museum\, 929 E Wisconsin Ave\, Milwaukee\, WI\, 53202\, United States
ORGANIZER;CN="Betty Brinn Children's Museum":MAILTO:questions@bbcmkids.org
END:VEVENT
END:VCALENDAR