BEGIN:VCALENDAR
VERSION:2.0
PRODID:-//Near West Side Partners - ECPv6.15.20//NONSGML v1.0//EN
CALSCALE:GREGORIAN
METHOD:PUBLISH
X-WR-CALNAME:Near West Side Partners
X-ORIGINAL-URL:https://nearwestsidemke.org
X-WR-CALDESC:Events for Near West Side Partners
REFRESH-INTERVAL;VALUE=DURATION:PT1H
X-Robots-Tag:noindex
X-PUBLISHED-TTL:PT1H
BEGIN:VTIMEZONE
TZID:America/Chicago
BEGIN:DAYLIGHT
TZOFFSETFROM:-0600
TZOFFSETTO:-0500
TZNAME:CDT
DTSTART:20230312T080000
END:DAYLIGHT
BEGIN:STANDARD
TZOFFSETFROM:-0500
TZOFFSETTO:-0600
TZNAME:CST
DTSTART:20231105T070000
END:STANDARD
BEGIN:DAYLIGHT
TZOFFSETFROM:-0600
TZOFFSETTO:-0500
TZNAME:CDT
DTSTART:20240310T080000
END:DAYLIGHT
BEGIN:STANDARD
TZOFFSETFROM:-0500
TZOFFSETTO:-0600
TZNAME:CST
DTSTART:20241103T070000
END:STANDARD
BEGIN:DAYLIGHT
TZOFFSETFROM:-0600
TZOFFSETTO:-0500
TZNAME:CDT
DTSTART:20250309T080000
END:DAYLIGHT
BEGIN:STANDARD
TZOFFSETFROM:-0500
TZOFFSETTO:-0600
TZNAME:CST
DTSTART:20251102T070000
END:STANDARD
END:VTIMEZONE
BEGIN:VEVENT
DTSTART;TZID=America/Chicago:20240428T153000
DTEND;TZID=America/Chicago:20240428T173000
DTSTAMP:20260420T115447
CREATED:20240415T142507Z
LAST-MODIFIED:20240415T142507Z
UID:10238-1714318200-1714325400@nearwestsidemke.org
SUMMARY:Sensory-Friendly Sessions
DESCRIPTION:Families can enjoy the Betty Brinn Children’s Museum in a calmer\, quieter space during our\nSensory-Friendly Sessions. These special playtimes include open-play and facilitated\nProgramming. Advanced reservations are recommended.
URL:https://nearwestsidemke.org/event/sensory-friendly-sessions/2024-04-28/
LOCATION:Betty Brinn Children’s Museum\, 929 E Wisconsin Ave\, Milwaukee\, WI\, 53202\, United States
ATTACH;FMTTYPE=image/jpeg:https://nearwestsidemke.org/wp-content/uploads/2024/04/Sensory-Friendly-Sessions.jpg
ORGANIZER;CN="Betty Brinn Children's Museum":MAILTO:questions@bbcmkids.org
END:VEVENT
END:VCALENDAR