BEGIN:VCALENDAR
VERSION:2.0
PRODID:-//Near West Side Partners - ECPv6.15.20//NONSGML v1.0//EN
CALSCALE:GREGORIAN
METHOD:PUBLISH
X-WR-CALNAME:Near West Side Partners
X-ORIGINAL-URL:https://nearwestsidemke.org
X-WR-CALDESC:Events for Near West Side Partners
REFRESH-INTERVAL;VALUE=DURATION:PT1H
X-Robots-Tag:noindex
X-PUBLISHED-TTL:PT1H
BEGIN:VTIMEZONE
TZID:America/Chicago
BEGIN:DAYLIGHT
TZOFFSETFROM:-0600
TZOFFSETTO:-0500
TZNAME:CDT
DTSTART:20230312T080000
END:DAYLIGHT
BEGIN:STANDARD
TZOFFSETFROM:-0500
TZOFFSETTO:-0600
TZNAME:CST
DTSTART:20231105T070000
END:STANDARD
BEGIN:DAYLIGHT
TZOFFSETFROM:-0600
TZOFFSETTO:-0500
TZNAME:CDT
DTSTART:20240310T080000
END:DAYLIGHT
BEGIN:STANDARD
TZOFFSETFROM:-0500
TZOFFSETTO:-0600
TZNAME:CST
DTSTART:20241103T070000
END:STANDARD
BEGIN:DAYLIGHT
TZOFFSETFROM:-0600
TZOFFSETTO:-0500
TZNAME:CDT
DTSTART:20250309T080000
END:DAYLIGHT
BEGIN:STANDARD
TZOFFSETFROM:-0500
TZOFFSETTO:-0600
TZNAME:CST
DTSTART:20251102T070000
END:STANDARD
END:VTIMEZONE
BEGIN:VEVENT
DTSTART;TZID=America/Chicago:20240322T170000
DTEND;TZID=America/Chicago:20240322T180000
DTSTAMP:20260425T063630
CREATED:20240219T153422Z
LAST-MODIFIED:20240219T153422Z
UID:8530-1711126800-1711130400@nearwestsidemke.org
SUMMARY:Pabst Mansion Lecture: Great Lake Shipwrecks Connected to Captain Pabst
DESCRIPTION:Before he became one of the nations most famous beer barons\, Frederick Pabst was witness to the sinking of the steamer Niagara in 1856. Hear about his heroic efforts to save the captain of the sinking ship and learn about another shipwreck that has connections to Captain Pabst. \nIn this talk\, Cullen will also give guests a sneak peak of an upcoming exhibit at the Wisconsin Maritime Museum that will include many artifacts that were salvaged from the shipwreck Niagara in the 1970s and ’80s.   \nKevin Cullen is the Deputy Director and Chief Curator at the Wisconsin Maritime Museum in Manitowoc\, WI.
URL:https://nearwestsidemke.org/event/pabst-mansion-lecture-great-lake-shipwrecks-connected-to-captain-pabst/
LOCATION:Pabst Mansion\, 2000 W. Wisconsin Ave.\, Milwaukee\, WI\, 53233\, United States
ORGANIZER;CN="Pabst Mansion":MAILTO:info@pabstmansion.com
END:VEVENT
END:VCALENDAR