BEGIN:VCALENDAR
VERSION:2.0
PRODID:-//Near West Side Partners - ECPv6.15.20//NONSGML v1.0//EN
CALSCALE:GREGORIAN
METHOD:PUBLISH
X-ORIGINAL-URL:https://nearwestsidemke.org
X-WR-CALDESC:Events for Near West Side Partners
REFRESH-INTERVAL;VALUE=DURATION:PT1H
X-Robots-Tag:noindex
X-PUBLISHED-TTL:PT1H
BEGIN:VTIMEZONE
TZID:America/Chicago
BEGIN:DAYLIGHT
TZOFFSETFROM:-0600
TZOFFSETTO:-0500
TZNAME:CDT
DTSTART:20220313T080000
END:DAYLIGHT
BEGIN:STANDARD
TZOFFSETFROM:-0500
TZOFFSETTO:-0600
TZNAME:CST
DTSTART:20221106T070000
END:STANDARD
BEGIN:DAYLIGHT
TZOFFSETFROM:-0600
TZOFFSETTO:-0500
TZNAME:CDT
DTSTART:20230312T080000
END:DAYLIGHT
BEGIN:STANDARD
TZOFFSETFROM:-0500
TZOFFSETTO:-0600
TZNAME:CST
DTSTART:20231105T070000
END:STANDARD
BEGIN:DAYLIGHT
TZOFFSETFROM:-0600
TZOFFSETTO:-0500
TZNAME:CDT
DTSTART:20240310T080000
END:DAYLIGHT
BEGIN:STANDARD
TZOFFSETFROM:-0500
TZOFFSETTO:-0600
TZNAME:CST
DTSTART:20241103T070000
END:STANDARD
END:VTIMEZONE
BEGIN:VEVENT
DTSTART;TZID=America/Chicago:20230928T170000
DTEND;TZID=America/Chicago:20230928T200000
DTSTAMP:20260422T132045
CREATED:20230911T190044Z
LAST-MODIFIED:20230911T190044Z
UID:5983-1695920400-1695931200@nearwestsidemke.org
SUMMARY:Cheers to Careers: Annual Fundraiser for WRTP | BIG STEP
DESCRIPTION:Cheers to Careers is the largest fundraiser for WRTP | BIG STEP for the year. Sponsorships and tickets are available until sold out. Event will be held at The Ivy House and features our Celebrity Bartenders\, signature cocktails (including a mocktail)\, and an auction with outdoor benches\, birdhouses\, and more! \nWRTP | BIG STEP is paving the way to make sure everyone has a pathway to a family-supporting career. We are curious and courageous people who boldly work toward building impactful connections between people and industry in innovative and equitable ways: we are the change-makers. \nOUR MISSION\nTo enhance the ability of public and private sector organizations to recruit\, develop\, and retain a more diverse\, qualified workforce in construction\, manufacturing\, and emerging sectors of the regional economy.
URL:https://nearwestsidemke.org/event/cheers-to-careers-annual-fundraiser-for-wrtp-big-step/
LOCATION:The Ivy House\, 906 S Barclay St\, Milwaukee\, WI\, 53204\, United States
ATTACH;FMTTYPE=image/png:https://nearwestsidemke.org/wp-content/uploads/2023/09/image001.png
ORGANIZER;CN="WRTP I BIG STEP":MAILTO:milwaukee@wrtp.org
END:VEVENT
BEGIN:VEVENT
DTSTART;TZID=America/Chicago:20230928T173000
DTEND;TZID=America/Chicago:20230928T173000
DTSTAMP:20260422T132045
CREATED:20230705T141018Z
LAST-MODIFIED:20230705T141018Z
UID:5161-1695922200-1695922200@nearwestsidemke.org
SUMMARY:District Three Crime and Safety Meeting
DESCRIPTION:Join Captain Bratchett in learning about the crime statistics for District 3. Meet some of your neighbors\, business owners and organizations to learn about new safety topics each month. The Community Liaison Officer and Community Partnership officers will be available for any other questions!
URL:https://nearwestsidemke.org/event/district-three-crime-and-safety-meeting/
LOCATION:Milwaukeek Police Departmernt District 3\, 2333 N 49th St\, Milwaukee\, WI\, 53210\, United States
END:VEVENT
END:VCALENDAR