BEGIN:VCALENDAR
VERSION:2.0
PRODID:-//Near West Side Partners - ECPv6.15.20//NONSGML v1.0//EN
CALSCALE:GREGORIAN
METHOD:PUBLISH
X-ORIGINAL-URL:https://nearwestsidemke.org
X-WR-CALDESC:Events for Near West Side Partners
REFRESH-INTERVAL;VALUE=DURATION:PT1H
X-Robots-Tag:noindex
X-PUBLISHED-TTL:PT1H
BEGIN:VTIMEZONE
TZID:America/Chicago
BEGIN:DAYLIGHT
TZOFFSETFROM:-0600
TZOFFSETTO:-0500
TZNAME:CDT
DTSTART:20210314T080000
END:DAYLIGHT
BEGIN:STANDARD
TZOFFSETFROM:-0500
TZOFFSETTO:-0600
TZNAME:CST
DTSTART:20211107T070000
END:STANDARD
BEGIN:DAYLIGHT
TZOFFSETFROM:-0600
TZOFFSETTO:-0500
TZNAME:CDT
DTSTART:20220313T080000
END:DAYLIGHT
BEGIN:STANDARD
TZOFFSETFROM:-0500
TZOFFSETTO:-0600
TZNAME:CST
DTSTART:20221106T070000
END:STANDARD
BEGIN:DAYLIGHT
TZOFFSETFROM:-0600
TZOFFSETTO:-0500
TZNAME:CDT
DTSTART:20230312T080000
END:DAYLIGHT
BEGIN:STANDARD
TZOFFSETFROM:-0500
TZOFFSETTO:-0600
TZNAME:CST
DTSTART:20231105T070000
END:STANDARD
END:VTIMEZONE
BEGIN:VEVENT
DTSTART;TZID=America/Chicago:20221029T130000
DTEND;TZID=America/Chicago:20221119T153000
DTSTAMP:20260421T145615
CREATED:20221019T184837Z
LAST-MODIFIED:20221019T184837Z
UID:2811-1667048400-1668871800@nearwestsidemke.org
SUMMARY:VEGAN COOKING CLASSES FOR ADULTS
DESCRIPTION:During these Saturday Afternoon Cooking Classes participants will learn how to transform and veganize their favorite foods with flavor\, taste and texture just in time for the holidays.
URL:https://nearwestsidemke.org/event/vegan-cooking-classes-for-adults/2022-10-29/
LOCATION:HEART 2 HEART COMPASSIONATE WIDOW’S CIRCLES\, 2224 WEST KILBOURN AVENUE - Suite W132\, MILWAUKEE\, WI\, 53233\, United States
ORGANIZER;CN="HEART 2 HEART COMPASSIONATE WIDOW'S CIRCLES":MAILTO:tcw@h2hcwc.org
END:VEVENT
BEGIN:VEVENT
DTSTART;TZID=America/Chicago:20221105T094500
DTEND;TZID=America/Chicago:20221105T120000
DTSTAMP:20260421T145615
CREATED:20221019T160959Z
LAST-MODIFIED:20221019T160959Z
UID:2803-1667641500-1667649600@nearwestsidemke.org
SUMMARY:Marquette University Graduate Programs Open House
DESCRIPTION:Different programs offer different benefits\, but one thing that’s certain about graduate school in general: it’s a smart career move. Join us for our in-person fall open house on November 5. Hear from current graduate students about their journeys and programs\, have small-group conversations with program faculty and other prospective students in your field\, and take a walking tour of campus.
URL:https://nearwestsidemke.org/event/marquette-university-graduate-programs-open-house/
LOCATION:Marquette University Alumni Memorial Union\, 1442 W Wisconsin Ave\, Milwaukee\, WI\, 53233\, United States
ATTACH;FMTTYPE=image/jpeg:https://nearwestsidemke.org/wp-content/uploads/2022/10/GRD-Open-House-Social-Graphic_square.jpg
ORGANIZER;CN="Marquette University":MAILTO:humanresources@marquette.edu
END:VEVENT
END:VCALENDAR