BEGIN:VCALENDAR
VERSION:2.0
PRODID:-//Near West Side Partners - ECPv6.15.20//NONSGML v1.0//EN
CALSCALE:GREGORIAN
METHOD:PUBLISH
X-WR-CALNAME:Near West Side Partners
X-ORIGINAL-URL:https://nearwestsidemke.org
X-WR-CALDESC:Events for Near West Side Partners
REFRESH-INTERVAL;VALUE=DURATION:PT1H
X-Robots-Tag:noindex
X-PUBLISHED-TTL:PT1H
BEGIN:VTIMEZONE
TZID:America/Chicago
BEGIN:DAYLIGHT
TZOFFSETFROM:-0600
TZOFFSETTO:-0500
TZNAME:CDT
DTSTART:20210314T080000
END:DAYLIGHT
BEGIN:STANDARD
TZOFFSETFROM:-0500
TZOFFSETTO:-0600
TZNAME:CST
DTSTART:20211107T070000
END:STANDARD
BEGIN:DAYLIGHT
TZOFFSETFROM:-0600
TZOFFSETTO:-0500
TZNAME:CDT
DTSTART:20220313T080000
END:DAYLIGHT
BEGIN:STANDARD
TZOFFSETFROM:-0500
TZOFFSETTO:-0600
TZNAME:CST
DTSTART:20221106T070000
END:STANDARD
BEGIN:DAYLIGHT
TZOFFSETFROM:-0600
TZOFFSETTO:-0500
TZNAME:CDT
DTSTART:20230312T080000
END:DAYLIGHT
BEGIN:STANDARD
TZOFFSETFROM:-0500
TZOFFSETTO:-0600
TZNAME:CST
DTSTART:20231105T070000
END:STANDARD
END:VTIMEZONE
BEGIN:VEVENT
DTSTART;TZID=America/Chicago:20220614T130000
DTEND;TZID=America/Chicago:20220805T170000
DTSTAMP:20260421T163943
CREATED:20220707T142547Z
LAST-MODIFIED:20220707T142547Z
UID:1930-1655211600-1659718800@nearwestsidemke.org
SUMMARY:Peak@Tief
DESCRIPTION:PEAK is offering free tune-ups on minor bike repairs! Please bring your bike to PEAK for help repairing brakes\, chains\, seats\, and tires. \nPeak is offering these repairs Tuesday through Saturday from June 14th to August 5th
URL:https://nearwestsidemke.org/event/peaktief/
LOCATION:PEAK Initative\, 2480 W. Cherry Street\, Milwaukee\, Wisconsin
ATTACH;FMTTYPE=image/png:https://nearwestsidemke.org/wp-content/uploads/2022/07/Screen-Shot-2022-07-07-at-9.16.29-AM.png
ORGANIZER;CN="PEAK Initative":MAILTO:info@PEAKinitiative.org
END:VEVENT
BEGIN:VEVENT
DTSTART;TZID=America/Chicago:20220801T100000
DTEND;TZID=America/Chicago:20220805T140000
DTSTAMP:20260421T163943
CREATED:20220707T150408Z
LAST-MODIFIED:20220707T150408Z
UID:1946-1659348000-1659708000@nearwestsidemke.org
SUMMARY:Make Your Bike Happy
DESCRIPTION:Catch the Milwaukee Mobile Bike Repair Crew for free tune-ups and repairs across the city!
URL:https://nearwestsidemke.org/event/make-your-bike-happy-4/
LOCATION:MERRILL PARK\, 401 N 35th St\, Milwaukee\, 53208
ATTACH;FMTTYPE=image/png:https://nearwestsidemke.org/wp-content/uploads/2022/07/Screen-Shot-2022-07-07-at-9.26.30-AM-3.png
ORGANIZER;CN="Wisconsin Bike Fed":MAILTO:mobilerepair@wisconsinbikefed.org
END:VEVENT
BEGIN:VEVENT
DTSTART;TZID=America/Chicago:20220802T173000
DTEND;TZID=America/Chicago:20220802T200000
DTSTAMP:20260421T163943
CREATED:20220712T171606Z
LAST-MODIFIED:20220712T171606Z
UID:1961-1659461400-1659470400@nearwestsidemke.org
SUMMARY:World View Art Center Summer Pop-Up Gallery
DESCRIPTION:Join us for our Summer Pop-Up Gallery\, Tuesday\, August 2\, 5:30-8 pm! Conveniently located next to the Five O’Clock Steakhouse at 2422 W. State\, the event will showcase art and merchandise created by Milwaukee artists. The Pop-Up is generously supported by The Five O’Clock Steakhouse and will include live entertainment\, lite appetizers\, and refreshments. Come out and support local artists.
URL:https://nearwestsidemke.org/event/world-view-art-center-summer-pop-up-gallery/
LOCATION:2422 W. State Street\, 2422 W. State\, Milwaukee\, WI\, 53223\, United States
ATTACH;FMTTYPE=image/png:https://nearwestsidemke.org/wp-content/uploads/2022/07/Web_Logo.png
ORGANIZER;CN="World View Art Center":MAILTO:erik@worldviewartcenter.org
END:VEVENT
END:VCALENDAR