BEGIN:VCALENDAR
VERSION:2.0
PRODID:-//Near West Side Partners - ECPv6.15.20//NONSGML v1.0//EN
CALSCALE:GREGORIAN
METHOD:PUBLISH
X-ORIGINAL-URL:https://nearwestsidemke.org
X-WR-CALDESC:Events for Near West Side Partners
REFRESH-INTERVAL;VALUE=DURATION:PT1H
X-Robots-Tag:noindex
X-PUBLISHED-TTL:PT1H
BEGIN:VTIMEZONE
TZID:America/Chicago
BEGIN:DAYLIGHT
TZOFFSETFROM:-0600
TZOFFSETTO:-0500
TZNAME:CDT
DTSTART:20210314T080000
END:DAYLIGHT
BEGIN:STANDARD
TZOFFSETFROM:-0500
TZOFFSETTO:-0600
TZNAME:CST
DTSTART:20211107T070000
END:STANDARD
BEGIN:DAYLIGHT
TZOFFSETFROM:-0600
TZOFFSETTO:-0500
TZNAME:CDT
DTSTART:20220313T080000
END:DAYLIGHT
BEGIN:STANDARD
TZOFFSETFROM:-0500
TZOFFSETTO:-0600
TZNAME:CST
DTSTART:20221106T070000
END:STANDARD
BEGIN:DAYLIGHT
TZOFFSETFROM:-0600
TZOFFSETTO:-0500
TZNAME:CDT
DTSTART:20230312T080000
END:DAYLIGHT
BEGIN:STANDARD
TZOFFSETFROM:-0500
TZOFFSETTO:-0600
TZNAME:CST
DTSTART:20231105T070000
END:STANDARD
END:VTIMEZONE
BEGIN:VEVENT
DTSTART;TZID=America/Chicago:20220427T140000
DTEND;TZID=America/Chicago:20220427T160000
DTSTAMP:20260423T124544
CREATED:20220301T214230Z
LAST-MODIFIED:20220301T214230Z
UID:1617-1651068000-1651075200@nearwestsidemke.org
SUMMARY:Exploring Visual Thinking Strategies (VTS)
DESCRIPTION:Wednesday\, April 27\, 2 to 4 p.m.\nExploring Visual Thinking Strategies (VTS)\nRegister online at: https://www.eventbrite.com/e/exploring-visual-thinking-strategies-vts-with-kris-grey-tickets-288577211207 \nJoin us virtually for this two-part program where we will be introduced to Visual Thinking Strategies (VTS). \nVTS has been developed and refined over the past 30+ years based on ongoing research by VTS co-founder\, Abigail Housen. Abigail and co-founder Philip Yenawine first developed VTS as an effective teaching strategy based on her theory of aesthetic development. VTS harnesses the power of dialog and the power of looking to build critical thinking\, evidentiary reasoning\, and literacy skills. \nStay for both parts or join us for just one. The choice is yours! \n*Please note this event will not be recorded. Register now to enjoy!
URL:https://nearwestsidemke.org/event/exploring-visual-thinking-strategies-vts/
ATTACH;FMTTYPE=image/jpeg:https://nearwestsidemke.org/wp-content/uploads/2022/03/VTS-eventbrite-100.jpg
ORGANIZER;CN="Haggerty Museum of Art":MAILTO:haggertym@marquette.edu
END:VEVENT
END:VCALENDAR